BEGIN:VCALENDAR
VERSION:2.0
PRODID:-//JWB - ECPv5.9.2//NONSGML v1.0//EN
CALSCALE:GREGORIAN
METHOD:PUBLISH
X-WR-CALNAME:JWB
X-ORIGINAL-URL:https://www.jwbpinellas.org
X-WR-CALDESC:Events for JWB
BEGIN:VTIMEZONE
TZID:UTC
BEGIN:STANDARD
TZOFFSETFROM:+0000
TZOFFSETTO:+0000
TZNAME:UTC
DTSTART:20170101T000000
END:STANDARD
END:VTIMEZONE
BEGIN:VEVENT
DTSTART;VALUE=DATE:20170301
DTEND;VALUE=DATE:20170302
DTSTAMP:20260421T153030
CREATED:20170301T191846Z
LAST-MODIFIED:20181102T155505Z
UID:2230-1488326400-1488412799@www.jwbpinellas.org
SUMMARY:Dr. Marcie Biddleman honored with the 36th annual Four Chaplains Award
DESCRIPTION:Dr. Marcie Biddleman was honored with the 36th Annual Four Chaplains Award by the St. Petersburg Civitan Club during their Clergy Appreciation Luncheon on March 1\, 2017. The St. Petersburg Civitan Club presents the Four Chaplains Award to community leaders and advocates who serve others and emulate the qualities of the four chaplains: selflessness and self-sacrifice for the greater good.  \nThe award is based on a true story: On February 3\, 7943\, the troop transport Dorchester was torpedoed and sunk in the cold North Atlantic waters off Greenland. The ship was only 90 miles from its destination\, but 678 of the 904 men on board were lost at sea. Among these who perished were four chaplains – a priest\, a rabbi\, and two ministers. They went down with the ship because they had given their life jackets to soldiers who had none. With utter disregard for self\, the chaplains stood hand-in-hand and perished so that others might live. \nSince the mid-1960s\, Civitan Clubs around the world have set aside a time to honor the sacrifice of the four chaplains and to recognize the special role of religion and faith in our society.  \nAbout Civitan Clubs: The worldwide mission of Civitan International is to build good citizenship by providing a volunteer organization of clubs dedicated to serving individual and community needs with an emphasis on helping people with developmental disabilities.
URL:https://www.jwbpinellas.org/calendar/dr-marcie-biddleman-honored-with-the-36th-annual-four-chaplains-award/
END:VEVENT
END:VCALENDAR