BEGIN:VCALENDAR
VERSION:2.0
PRODID:-//JWB - ECPv5.9.2//NONSGML v1.0//EN
CALSCALE:GREGORIAN
METHOD:PUBLISH
X-WR-CALNAME:JWB
X-ORIGINAL-URL:https://www.jwbpinellas.org
X-WR-CALDESC:Events for JWB
BEGIN:VTIMEZONE
TZID:UTC
BEGIN:STANDARD
TZOFFSETFROM:+0000
TZOFFSETTO:+0000
TZNAME:UTC
DTSTART:20170101T000000
END:STANDARD
END:VTIMEZONE
BEGIN:VEVENT
DTSTART;TZID=UTC:20170525T140000
DTEND;TZID=UTC:20170525T140000
DTSTAMP:20260424T174436
CREATED:20171102T191755Z
LAST-MODIFIED:20171207T182138Z
UID:1135-1495720800-1495720800@www.jwbpinellas.org
SUMMARY:Board Workshop
DESCRIPTION:
URL:https://www.jwbpinellas.org/calendar/board-workshop-2/
LOCATION:JWB/Edmonds Neri Conference Room\, 14155 58th Street North\, Clearwater\, FL 33760\, 14155 58th Street North\, Clearwater\, FL\, 33760\, United States
CATEGORIES:All Meetings,Board Meetings
GEO:27.9004204;-82.7117388
X-APPLE-STRUCTURED-LOCATION;VALUE=URI;X-ADDRESS=JWB/Edmonds Neri Conference Room 14155 58th Street North Clearwater FL 33760 14155 58th Street North Clearwater FL 33760 United States;X-APPLE-RADIUS=500;X-TITLE=14155 58th Street North:geo:-82.7117388,27.9004204
END:VEVENT
END:VCALENDAR