BEGIN:VCALENDAR
VERSION:2.0
PRODID:-//JWB - ECPv5.9.2//NONSGML v1.0//EN
CALSCALE:GREGORIAN
METHOD:PUBLISH
X-WR-CALNAME:JWB
X-ORIGINAL-URL:https://www.jwbpinellas.org
X-WR-CALDESC:Events for JWB
BEGIN:VTIMEZONE
TZID:UTC
BEGIN:STANDARD
TZOFFSETFROM:+0000
TZOFFSETTO:+0000
TZNAME:UTC
DTSTART:20170101T000000
END:STANDARD
END:VTIMEZONE
BEGIN:VEVENT
DTSTART;TZID=UTC:20170601T173000
DTEND;TZID=UTC:20170601T193000
DTSTAMP:20260424T064548
CREATED:20171102T191812Z
LAST-MODIFIED:20171219T173255Z
UID:1183-1496338200-1496345400@www.jwbpinellas.org
SUMMARY:North Council Meeting
DESCRIPTION:
URL:https://www.jwbpinellas.org/calendar/north-county-community-council-meeting-3/
LOCATION:MLK Recreation Center\, 550 Laura Lane\, Dunedin\, FL 34698\, 550 Laura Lane\, Dunedin\, FL\, 34698
CATEGORIES:All Meetings
GEO:28.0205212;-82.7842237
X-APPLE-STRUCTURED-LOCATION;VALUE=URI;X-ADDRESS=MLK Recreation Center 550 Laura Lane Dunedin FL 34698 550 Laura Lane Dunedin FL 34698;X-APPLE-RADIUS=500;X-TITLE=550 Laura Lane:geo:-82.7842237,28.0205212
END:VEVENT
END:VCALENDAR