BEGIN:VCALENDAR
VERSION:2.0
PRODID:-//JWB - ECPv5.9.2//NONSGML v1.0//EN
CALSCALE:GREGORIAN
METHOD:PUBLISH
X-WR-CALNAME:JWB
X-ORIGINAL-URL:https://www.jwbpinellas.org
X-WR-CALDESC:Events for JWB
BEGIN:VTIMEZONE
TZID:UTC
BEGIN:STANDARD
TZOFFSETFROM:+0000
TZOFFSETTO:+0000
TZNAME:UTC
DTSTART:20170101T000000
END:STANDARD
END:VTIMEZONE
BEGIN:VEVENT
DTSTART;VALUE=DATE:20170606
DTEND;VALUE=DATE:20170607
DTSTAMP:20260423T235447
CREATED:20170606T185033Z
LAST-MODIFIED:20181102T155700Z
UID:2213-1496707200-1496793599@www.jwbpinellas.org
SUMMARY:Free bus passes equal hot food for hungry teens
DESCRIPTION:One of the biggest obstacles for hungry teens to overcome in the summer is finding transportation to get a hot meal. \nThis summer\, that A-to-B trip has been taken care of for 250 kids. \nThe Pinellas Suncoast Transit Authority (PSTA) and the Juvenile Welfare Board (JWB) have partnered with the City of Clearwater to promote Breakspot – a summer program aimed at providing free meals to teens and youth over the summer. On Tuesday\, they braved the rain to hand out 250 Haul Passes for free to kids who otherwise wouldn’t be able to make it from their homes to community centers around Pinellas County where hot meals are made available. \n“A lot of kids around here have parents that have to leave them at home with no food and no way to get around\,” 16-year-old Janyah Manning told the PTSA. “I know more kids would come to the rec center for food\, if they had a way to get there.” \nTeens gathered at the North Greenwood Recreation Center in Clearwater to celebrate the summer kick-off event. With the free Haul Pass\, teens will now be able to ride any PTSA bus for free for the next three months to over 180 locations in Pinellas County. \nThe Haul Pass is normally sold for $35.  \nFind original story here.
URL:https://www.jwbpinellas.org/calendar/free-bus-passes-equal-hot-food-for-hungry-teens/
END:VEVENT
END:VCALENDAR