BEGIN:VCALENDAR
VERSION:2.0
PRODID:-//JWB - ECPv5.9.2//NONSGML v1.0//EN
CALSCALE:GREGORIAN
METHOD:PUBLISH
X-WR-CALNAME:JWB
X-ORIGINAL-URL:https://www.jwbpinellas.org
X-WR-CALDESC:Events for JWB
BEGIN:VTIMEZONE
TZID:UTC
BEGIN:STANDARD
TZOFFSETFROM:+0000
TZOFFSETTO:+0000
TZNAME:UTC
DTSTART:20190101T000000
END:STANDARD
END:VTIMEZONE
BEGIN:VEVENT
DTSTART;TZID=UTC:20190625T130000
DTEND;TZID=UTC:20190625T130000
DTSTAMP:20260426T000618
CREATED:20190313T164034Z
LAST-MODIFIED:20190402T201917Z
UID:5998-1561467600-1561467600@www.jwbpinellas.org
SUMMARY:Finance Committee
DESCRIPTION:
URL:https://www.jwbpinellas.org/calendar/finance-committee-32/
LOCATION:JWB/Edmonds Neri Conference Room\, 14155 58th Street North\, Clearwater\, FL 33760\, 14155 58th Street North\, Clearwater\, FL\, 33760\, United States
CATEGORIES:All Meetings
GEO:27.9004204;-82.7117388
X-APPLE-STRUCTURED-LOCATION;VALUE=URI;X-ADDRESS=JWB/Edmonds Neri Conference Room 14155 58th Street North Clearwater FL 33760 14155 58th Street North Clearwater FL 33760 United States;X-APPLE-RADIUS=500;X-TITLE=14155 58th Street North:geo:-82.7117388,27.9004204
END:VEVENT
BEGIN:VEVENT
DTSTART;TZID=UTC:20190625T130000
DTEND;TZID=UTC:20190625T130000
DTSTAMP:20260426T000618
CREATED:20190624T192003Z
LAST-MODIFIED:20190715T164838Z
UID:6877-1561467600-1561467600@www.jwbpinellas.org
SUMMARY:Finance Committee Meeting
DESCRIPTION:
URL:https://www.jwbpinellas.org/calendar/finance-committee-meeting/
LOCATION:JWB/Edmonds Neri Conference Room\, 14155 58th Street North\, Clearwater\, FL 33760\, 14155 58th Street North\, Clearwater\, FL\, 33760\, United States
CATEGORIES:All Meetings,Board Meetings
GEO:27.9004204;-82.7117388
X-APPLE-STRUCTURED-LOCATION;VALUE=URI;X-ADDRESS=JWB/Edmonds Neri Conference Room 14155 58th Street North Clearwater FL 33760 14155 58th Street North Clearwater FL 33760 United States;X-APPLE-RADIUS=500;X-TITLE=14155 58th Street North:geo:-82.7117388,27.9004204
END:VEVENT
END:VCALENDAR