BEGIN:VCALENDAR
VERSION:2.0
PRODID:-//JWB - ECPv5.9.2//NONSGML v1.0//EN
CALSCALE:GREGORIAN
METHOD:PUBLISH
X-WR-CALNAME:JWB
X-ORIGINAL-URL:https://www.jwbpinellas.org
X-WR-CALDESC:Events for JWB
BEGIN:VTIMEZONE
TZID:UTC
BEGIN:STANDARD
TZOFFSETFROM:+0000
TZOFFSETTO:+0000
TZNAME:UTC
DTSTART:20190101T000000
END:STANDARD
END:VTIMEZONE
BEGIN:VEVENT
DTSTART;TZID=UTC:20190701T091500
DTEND;TZID=UTC:20190701T104500
DTSTAMP:20260425T144524
CREATED:20190415T203827Z
LAST-MODIFIED:20190715T163346Z
UID:6332-1561972500-1561977900@www.jwbpinellas.org
SUMMARY:Children’s Literacy Community Outreach RFP - Interviews with Beam Reach-Youth on the Move
DESCRIPTION:
URL:https://www.jwbpinellas.org/calendar/childrens-literacy-community-outreach-rfp-interviews-with-invited-proposer/
LOCATION:JWB/Conference Room 105\, 14155 58th Street North\, Clearwater\, FL 33760\, 14155 58th Street North\, Clearwater\, FL\, 33760\, United States
CATEGORIES:All Meetings,Solicitation Meetings
END:VEVENT
BEGIN:VEVENT
DTSTART;TZID=UTC:20190701T111500
DTEND;TZID=UTC:20190701T124500
DTSTAMP:20260425T144524
CREATED:20190415T203926Z
LAST-MODIFIED:20190715T164149Z
UID:6334-1561979700-1561985100@www.jwbpinellas.org
SUMMARY:Children’s Literacy Community Outreach RFP - Interviews with City of St. Petersburg Library System
DESCRIPTION:
URL:https://www.jwbpinellas.org/calendar/childrens-literacy-community-outreach-rfp-interviews-with-invited-proposer-2/
LOCATION:JWB/Conference Room 105\, 14155 58th Street North\, Clearwater\, FL 33760\, 14155 58th Street North\, Clearwater\, FL\, 33760\, United States
CATEGORIES:All Meetings,Solicitation Meetings
END:VEVENT
BEGIN:VEVENT
DTSTART;TZID=UTC:20190701T140000
DTEND;TZID=UTC:20190701T153000
DTSTAMP:20260425T144524
CREATED:20190626T152259Z
LAST-MODIFIED:20190715T164203Z
UID:6938-1561989600-1561995000@www.jwbpinellas.org
SUMMARY:Children’s Literacy Community Outreach RFP - Interviews with Mattie Williams Neighborhood Family Center
DESCRIPTION:
URL:https://www.jwbpinellas.org/calendar/childrens-literacy-community-outreach-rfp-interviews-with-mattie-williams-neighborhood-family-center/
LOCATION:JWB/Conference Room 105\, 14155 58th Street North\, Clearwater\, FL 33760\, 14155 58th Street North\, Clearwater\, FL\, 33760\, United States
CATEGORIES:All Meetings,Solicitation Meetings
END:VEVENT
END:VCALENDAR