BEGIN:VCALENDAR
VERSION:2.0
PRODID:-//JWB - ECPv5.9.2//NONSGML v1.0//EN
CALSCALE:GREGORIAN
METHOD:PUBLISH
X-WR-CALNAME:JWB
X-ORIGINAL-URL:https://www.jwbpinellas.org
X-WR-CALDESC:Events for JWB
BEGIN:VTIMEZONE
TZID:UTC
BEGIN:STANDARD
TZOFFSETFROM:+0000
TZOFFSETTO:+0000
TZNAME:UTC
DTSTART:20190101T000000
END:STANDARD
END:VTIMEZONE
BEGIN:VEVENT
DTSTART;TZID=UTC:20190703T091500
DTEND;TZID=UTC:20190703T104500
DTSTAMP:20260425T113413
CREATED:20190626T152447Z
LAST-MODIFIED:20190715T164219Z
UID:6940-1562145300-1562150700@www.jwbpinellas.org
SUMMARY:Children’s Literacy Community Outreach RFP - Interviews with R'Club Child Care
DESCRIPTION:
URL:https://www.jwbpinellas.org/calendar/childrens-literacy-community-outreach-rfp-interviews-with-rclub-child-care/
LOCATION:JWB/Conference Room 105\, 14155 58th Street North\, Clearwater\, FL 33760\, 14155 58th Street North\, Clearwater\, FL\, 33760\, United States
CATEGORIES:All Meetings,Solicitation Meetings
END:VEVENT
BEGIN:VEVENT
DTSTART;TZID=UTC:20190703T111500
DTEND;TZID=UTC:20190703T124500
DTSTAMP:20260425T113413
CREATED:20190626T152557Z
LAST-MODIFIED:20190715T164239Z
UID:6942-1562152500-1562157900@www.jwbpinellas.org
SUMMARY:Children’s Literacy Community Outreach RFP - Interviews with Shirley Proctor Puller Foundation
DESCRIPTION:
URL:https://www.jwbpinellas.org/calendar/childrens-literacy-community-outreach-rfp-interviews-with-shirley-proctor-puller-foundation/
LOCATION:JWB/Conference Room 105\, 14155 58th Street North\, Clearwater\, FL 33760\, 14155 58th Street North\, Clearwater\, FL\, 33760\, United States
CATEGORIES:All Meetings,Solicitation Meetings
END:VEVENT
BEGIN:VEVENT
DTSTART;TZID=UTC:20190703T140000
DTEND;TZID=UTC:20190703T153000
DTSTAMP:20260425T113413
CREATED:20190626T152701Z
LAST-MODIFIED:20190715T164251Z
UID:6944-1562162400-1562167800@www.jwbpinellas.org
SUMMARY:Children’s Literacy Community Outreach RFP - Interviews with University of South Florida
DESCRIPTION:
URL:https://www.jwbpinellas.org/calendar/childrens-literacy-community-outreach-rfp-interviews-with-university-of-south-florida/
LOCATION:JWB/Conference Room 105\, 14155 58th Street North\, Clearwater\, FL 33760\, 14155 58th Street North\, Clearwater\, FL\, 33760\, United States
CATEGORIES:All Meetings,Solicitation Meetings
END:VEVENT
END:VCALENDAR