BEGIN:VCALENDAR
VERSION:2.0
PRODID:-//JWB - ECPv5.9.2//NONSGML v1.0//EN
CALSCALE:GREGORIAN
METHOD:PUBLISH
X-WR-CALNAME:JWB
X-ORIGINAL-URL:https://www.jwbpinellas.org
X-WR-CALDESC:Events for JWB
BEGIN:VTIMEZONE
TZID:UTC
BEGIN:STANDARD
TZOFFSETFROM:+0000
TZOFFSETTO:+0000
TZNAME:UTC
DTSTART:20190101T000000
END:STANDARD
END:VTIMEZONE
BEGIN:VEVENT
DTSTART;TZID=UTC:20190709T090000
DTEND;TZID=UTC:20190709T090000
DTSTAMP:20260425T014444
CREATED:20190415T204024Z
LAST-MODIFIED:20190715T164302Z
UID:6336-1562662800-1562662800@www.jwbpinellas.org
SUMMARY:Children’s Literacy Community Outreach RFP - Evaluation Committee Meeting
DESCRIPTION:
URL:https://www.jwbpinellas.org/calendar/childrens-literacy-community-outreach-rfp-evaluation-committee-meeting-2/
LOCATION:JWB/Edmonds Neri Conference Room\, 14155 58th Street North\, Clearwater\, FL 33760\, 14155 58th Street North\, Clearwater\, FL\, 33760\, United States
CATEGORIES:All Meetings,Solicitation Meetings
GEO:27.9004204;-82.7117388
X-APPLE-STRUCTURED-LOCATION;VALUE=URI;X-ADDRESS=JWB/Edmonds Neri Conference Room 14155 58th Street North Clearwater FL 33760 14155 58th Street North Clearwater FL 33760 United States;X-APPLE-RADIUS=500;X-TITLE=14155 58th Street North:geo:-82.7117388,27.9004204
END:VEVENT
END:VCALENDAR