BEGIN:VCALENDAR
VERSION:2.0
PRODID:-//JWB - ECPv5.9.2//NONSGML v1.0//EN
CALSCALE:GREGORIAN
METHOD:PUBLISH
X-WR-CALNAME:JWB
X-ORIGINAL-URL:https://www.jwbpinellas.org
X-WR-CALDESC:Events for JWB
BEGIN:VTIMEZONE
TZID:UTC
BEGIN:STANDARD
TZOFFSETFROM:+0000
TZOFFSETTO:+0000
TZNAME:UTC
DTSTART:20190101T000000
END:STANDARD
END:VTIMEZONE
BEGIN:VEVENT
DTSTART;TZID=UTC:20190711T090000
DTEND;TZID=UTC:20190711T090000
DTSTAMP:20260424T225116
CREATED:20181030T200604Z
LAST-MODIFIED:20190715T164641Z
UID:5219-1562835600-1562835600@www.jwbpinellas.org
SUMMARY:Monthly Board Meeting (to immediately follow CEO Search Committee Meeting)
DESCRIPTION:
URL:https://www.jwbpinellas.org/calendar/monthly-board-meeting-38/
LOCATION:JWB/Edmonds Neri Conference Room\, 14155 58th Street North\, Clearwater\, FL 33760\, 14155 58th Street North\, Clearwater\, FL\, 33760\, United States
CATEGORIES:All Meetings,Board Meetings
GEO:27.9004204;-82.7117388
X-APPLE-STRUCTURED-LOCATION;VALUE=URI;X-ADDRESS=JWB/Edmonds Neri Conference Room 14155 58th Street North Clearwater FL 33760 14155 58th Street North Clearwater FL 33760 United States;X-APPLE-RADIUS=500;X-TITLE=14155 58th Street North:geo:-82.7117388,27.9004204
END:VEVENT
BEGIN:VEVENT
DTSTART;TZID=UTC:20190711T090000
DTEND;TZID=UTC:20190711T090000
DTSTAMP:20260424T225116
CREATED:20190627T152319Z
LAST-MODIFIED:20190715T164657Z
UID:6957-1562835600-1562835600@www.jwbpinellas.org
SUMMARY:Finance Committee Meeting
DESCRIPTION:
URL:https://www.jwbpinellas.org/calendar/finance-committee-meeting-2/
LOCATION:JWB/Edmonds Neri Conference Room\, 14155 58th Street North\, Clearwater\, FL 33760\, 14155 58th Street North\, Clearwater\, FL\, 33760\, United States
CATEGORIES:All Meetings,Board Meetings
GEO:27.9004204;-82.7117388
X-APPLE-STRUCTURED-LOCATION;VALUE=URI;X-ADDRESS=JWB/Edmonds Neri Conference Room 14155 58th Street North Clearwater FL 33760 14155 58th Street North Clearwater FL 33760 United States;X-APPLE-RADIUS=500;X-TITLE=14155 58th Street North:geo:-82.7117388,27.9004204
END:VEVENT
BEGIN:VEVENT
DTSTART;TZID=UTC:20190711T090000
DTEND;TZID=UTC:20190711T090000
DTSTAMP:20260424T225116
CREATED:20190627T152442Z
LAST-MODIFIED:20190715T164710Z
UID:6959-1562835600-1562835600@www.jwbpinellas.org
SUMMARY:CEO Search Committee Meeting (to immediately follow Finance Committee Meeting)
DESCRIPTION:
URL:https://www.jwbpinellas.org/calendar/ceo-search-committee-meeting-to-immediately-follow-finance-committee-meeting/
LOCATION:JWB/Edmonds Neri Conference Room\, 14155 58th Street North\, Clearwater\, FL 33760\, 14155 58th Street North\, Clearwater\, FL\, 33760\, United States
CATEGORIES:All Meetings,Board Meetings
GEO:27.9004204;-82.7117388
X-APPLE-STRUCTURED-LOCATION;VALUE=URI;X-ADDRESS=JWB/Edmonds Neri Conference Room 14155 58th Street North Clearwater FL 33760 14155 58th Street North Clearwater FL 33760 United States;X-APPLE-RADIUS=500;X-TITLE=14155 58th Street North:geo:-82.7117388,27.9004204
END:VEVENT
BEGIN:VEVENT
DTSTART;TZID=UTC:20190711T153000
DTEND;TZID=UTC:20190711T170000
DTSTAMP:20260424T225116
CREATED:20190709T202401Z
LAST-MODIFIED:20191106T213138Z
UID:7057-1562859000-1562864400@www.jwbpinellas.org
SUMMARY:South Council Meeting
DESCRIPTION:
URL:https://www.jwbpinellas.org/calendar/south-council-meeting-19/
LOCATION:Gulfport Neighborhood Center\, 1617 49th Street South\, Gulfport\, FL 33707\, 1617 49th St S\, Gulfport\, FL\, 33707
CATEGORIES:All Meetings,Community Council Meetings
GEO:27.7543939;-82.7000231
X-APPLE-STRUCTURED-LOCATION;VALUE=URI;X-ADDRESS=Gulfport Neighborhood Center 1617 49th Street South Gulfport FL 33707 1617 49th St S Gulfport FL 33707;X-APPLE-RADIUS=500;X-TITLE=1617 49th St S:geo:-82.7000231,27.7543939
END:VEVENT
END:VCALENDAR