BEGIN:VCALENDAR
VERSION:2.0
PRODID:-//JWB - ECPv5.9.2//NONSGML v1.0//EN
CALSCALE:GREGORIAN
METHOD:PUBLISH
X-WR-CALNAME:JWB
X-ORIGINAL-URL:https://www.jwbpinellas.org
X-WR-CALDESC:Events for JWB
BEGIN:VTIMEZONE
TZID:UTC
BEGIN:STANDARD
TZOFFSETFROM:+0000
TZOFFSETTO:+0000
TZNAME:UTC
DTSTART:20190101T000000
END:STANDARD
END:VTIMEZONE
BEGIN:VEVENT
DTSTART;TZID=UTC:20190821T130000
DTEND;TZID=UTC:20190821T130000
DTSTAMP:20260424T211017
CREATED:20190716T203721Z
LAST-MODIFIED:20191029T135349Z
UID:7093-1566392400-1566392400@www.jwbpinellas.org
SUMMARY:Office 365 Tenancy Provisioning\, Configuration and Migration Services RFP - Evaluation Committee Meeting
DESCRIPTION:
URL:https://www.jwbpinellas.org/calendar/office-365-tenancy-provisioning-configuration-and-migration-services-rfp-evaluation-committee-meeting/
LOCATION:JWB/Room 185\, 14155 58th Street North\, Clearwater\, FL 33760\, 14155 58th Street North\, Clearwater\, 33760\, United States
CATEGORIES:All Meetings,Solicitation Meetings
END:VEVENT
END:VCALENDAR