BEGIN:VCALENDAR
VERSION:2.0
PRODID:-//JWB - ECPv5.9.2//NONSGML v1.0//EN
CALSCALE:GREGORIAN
METHOD:PUBLISH
X-WR-CALNAME:JWB
X-ORIGINAL-URL:https://www.jwbpinellas.org
X-WR-CALDESC:Events for JWB
BEGIN:VTIMEZONE
TZID:UTC
BEGIN:STANDARD
TZOFFSETFROM:+0000
TZOFFSETTO:+0000
TZNAME:UTC
DTSTART:20220101T000000
END:STANDARD
END:VTIMEZONE
BEGIN:VEVENT
DTSTART;TZID=UTC:20221103T160000
DTEND;TZID=UTC:20221103T170000
DTSTAMP:20260421T152300
CREATED:20221101T155512Z
LAST-MODIFIED:20221205T191758Z
UID:23339-1667491200-1667494800@www.jwbpinellas.org
SUMMARY:South County Community Council Meeting
DESCRIPTION:
URL:https://www.jwbpinellas.org/calendar/south-county-community-council-meeting-22/
LOCATION:The Historic Gulfport Casino Ballroom\, 5500 Shore Boulevard South\, Gulfport\, Florida 33707\, 5500 Shore Boulevard South\, Gulfport\, FL\, 33707\, United States
CATEGORIES:All Meetings,Community Council Meetings
END:VEVENT
BEGIN:VEVENT
DTSTART;TZID=UTC:20221103T180000
DTEND;TZID=UTC:20221103T193000
DTSTAMP:20260421T152300
CREATED:20221101T155727Z
LAST-MODIFIED:20230228T132040Z
UID:23343-1667498400-1667503800@www.jwbpinellas.org
SUMMARY:Mid-County Community Council Meeting
DESCRIPTION:
URL:https://www.jwbpinellas.org/calendar/mid-county-community-council-meeting-26/
LOCATION:Public Works Building\, 6250 82nd Avenue North\, Pinellas Park\, FL 33781\, 6250 82nd Avenue North\, Pinellas Park\, FL\, 33781\, United States
CATEGORIES:All Meetings,Community Council Meetings
GEO:27.8457826;-82.7212683
X-APPLE-STRUCTURED-LOCATION;VALUE=URI;X-ADDRESS=Public Works Building 6250 82nd Avenue North Pinellas Park FL 33781 6250 82nd Avenue North Pinellas Park FL 33781 United States;X-APPLE-RADIUS=500;X-TITLE=6250 82nd Avenue North:geo:-82.7212683,27.8457826
END:VEVENT
BEGIN:VEVENT
DTSTART;TZID=UTC:20221103T180000
DTEND;TZID=UTC:20221103T180000
DTSTAMP:20260421T152300
CREATED:20221101T155836Z
LAST-MODIFIED:20221205T191859Z
UID:23345-1667498400-1667498400@www.jwbpinellas.org
SUMMARY:No North County Community Council Meeting
DESCRIPTION:
URL:https://www.jwbpinellas.org/calendar/no-north-county-community-council-meeting-2/
LOCATION:Click on the meeting title on the left for attendance options\, United States
CATEGORIES:All Meetings,Community Council Meetings
END:VEVENT
END:VCALENDAR