BEGIN:VCALENDAR
VERSION:2.0
PRODID:-//JWB - ECPv5.9.2//NONSGML v1.0//EN
CALSCALE:GREGORIAN
METHOD:PUBLISH
X-WR-CALNAME:JWB
X-ORIGINAL-URL:https://www.jwbpinellas.org
X-WR-CALDESC:Events for JWB
BEGIN:VTIMEZONE
TZID:UTC
BEGIN:STANDARD
TZOFFSETFROM:+0000
TZOFFSETTO:+0000
TZNAME:UTC
DTSTART:20220101T000000
END:STANDARD
END:VTIMEZONE
BEGIN:VEVENT
DTSTART;TZID=UTC:20221110T090000
DTEND;TZID=UTC:20221110T090000
DTSTAMP:20260421T045155
CREATED:20220822T165120Z
LAST-MODIFIED:20221110T213556Z
UID:23009-1668070800-1668070800@www.jwbpinellas.org
SUMMARY:CANCELLED: Monthly Board Meeting
DESCRIPTION:
URL:https://www.jwbpinellas.org/calendar/monthly-board-meeting-63/
LOCATION:MEETING CANCELLED\, United States
CATEGORIES:All Meetings,Board Meetings
END:VEVENT
END:VCALENDAR