BEGIN:VCALENDAR
VERSION:2.0
PRODID:-//JWB - ECPv5.9.2//NONSGML v1.0//EN
CALSCALE:GREGORIAN
METHOD:PUBLISH
X-WR-CALNAME:JWB
X-ORIGINAL-URL:https://www.jwbpinellas.org
X-WR-CALDESC:Events for JWB
BEGIN:VTIMEZONE
TZID:UTC
BEGIN:STANDARD
TZOFFSETFROM:+0000
TZOFFSETTO:+0000
TZNAME:UTC
DTSTART:20220101T000000
END:STANDARD
END:VTIMEZONE
BEGIN:VEVENT
DTSTART;TZID=UTC:20221118T090000
DTEND;TZID=UTC:20221118T100000
DTSTAMP:20260420T174628
CREATED:20220801T164926Z
LAST-MODIFIED:20230119T153415Z
UID:22856-1668762000-1668765600@www.jwbpinellas.org
SUMMARY:JWB Executive Team Evaluation Meeting to Select Respondents Recommended for Award for New Strategically Aligned Programs for Early Childhood Development\, Prevention of Child Abuse and Neglect\, and Strengthening Community
DESCRIPTION:
URL:https://www.jwbpinellas.org/calendar/jwb-executive-team-evaluation-meeting-to-select-respondents-recommended-for-award-for-new-strategically-aligned-programs-for-early-childhood-development-prevention-of-child-abuse-and-neglect-and-str/
LOCATION:JWB/Edmonds Neri Conference Room\, 14155 58th Street North\, Clearwater\, FL 33760\, 14155 58th Street North\, Clearwater\, FL\, 33760\, United States
CATEGORIES:All Meetings
GEO:27.9004204;-82.7117388
X-APPLE-STRUCTURED-LOCATION;VALUE=URI;X-ADDRESS=JWB/Edmonds Neri Conference Room 14155 58th Street North Clearwater FL 33760 14155 58th Street North Clearwater FL 33760 United States;X-APPLE-RADIUS=500;X-TITLE=14155 58th Street North:geo:-82.7117388,27.9004204
END:VEVENT
END:VCALENDAR