BEGIN:VCALENDAR
VERSION:2.0
PRODID:-//JWB - ECPv5.9.2//NONSGML v1.0//EN
CALSCALE:GREGORIAN
METHOD:PUBLISH
X-WR-CALNAME:JWB
X-ORIGINAL-URL:https://www.jwbpinellas.org
X-WR-CALDESC:Events for JWB
BEGIN:VTIMEZONE
TZID:UTC
BEGIN:STANDARD
TZOFFSETFROM:+0000
TZOFFSETTO:+0000
TZNAME:UTC
DTSTART:20260101T000000
END:STANDARD
END:VTIMEZONE
BEGIN:VEVENT
DTSTART;TZID=UTC:20260530T110000
DTEND;TZID=UTC:20260530T140000
DTSTAMP:20260421T203541
CREATED:20260311T174807Z
LAST-MODIFIED:20260409T144622Z
UID:31454-1780138800-1780149600@www.jwbpinellas.org
SUMMARY:Celebrating the Heroes of Caregiving
DESCRIPTION:Download English Flyer \nDownload Spanish Flyer \nDownload Vietnamese Flyer
URL:https://www.jwbpinellas.org/calendar/mid-county-grand-families-event/
LOCATION:Pinellas Park Performing Arts Center\, 4951 78th Ave. N.\, Pinellas Park FL 33781\, 4951 78th Ave. N.\, Pinellas Park\, FL\, 33781\, United States
CATEGORIES:All Meetings,Community Council Meetings
ATTACH;FMTTYPE=image/jpeg:https://www.jwbpinellas.org/wp-content/uploads/2026/03/2026-Mid-County-Grand-Families-1-e1774463357367.jpg
END:VEVENT
END:VCALENDAR