BEGIN:VCALENDAR
VERSION:2.0
PRODID:-//JWB - ECPv5.9.2//NONSGML v1.0//EN
CALSCALE:GREGORIAN
METHOD:PUBLISH
X-WR-CALNAME:JWB
X-ORIGINAL-URL:https://www.jwbpinellas.org
X-WR-CALDESC:Events for JWB
BEGIN:VTIMEZONE
TZID:UTC
BEGIN:STANDARD
TZOFFSETFROM:+0000
TZOFFSETTO:+0000
TZNAME:UTC
DTSTART:20260101T000000
END:STANDARD
END:VTIMEZONE
BEGIN:VEVENT
DTSTART;TZID=UTC:20260630T090000
DTEND;TZID=UTC:20260630T103000
DTSTAMP:20260423T222243
CREATED:20260302T145409Z
LAST-MODIFIED:20260302T145449Z
UID:31361-1782810000-1782815400@www.jwbpinellas.org
SUMMARY:Auditor Selection Committee meeting - Top Proposer Presentations
DESCRIPTION:
URL:https://www.jwbpinellas.org/calendar/auditor-selection-committee-meeting-top-proposer-presentations/
LOCATION:JWB/Edmonds Neri Conference Room\, 14155 58th Street North\, Clearwater\, FL 33760\, 14155 58th Street North\, Clearwater\, FL\, 33760\, United States
CATEGORIES:All Meetings,Board Meetings,Public Notices
GEO:27.9004204;-82.7117388
X-APPLE-STRUCTURED-LOCATION;VALUE=URI;X-ADDRESS=JWB/Edmonds Neri Conference Room 14155 58th Street North Clearwater FL 33760 14155 58th Street North Clearwater FL 33760 United States;X-APPLE-RADIUS=500;X-TITLE=14155 58th Street North:geo:-82.7117388,27.9004204
END:VEVENT
BEGIN:VEVENT
DTSTART;TZID=UTC:20260630T103000
DTEND;TZID=UTC:20260630T120000
DTSTAMP:20260423T222243
CREATED:20260302T145622Z
LAST-MODIFIED:20260302T145622Z
UID:31363-1782815400-1782820800@www.jwbpinellas.org
SUMMARY:Finance Committee Meeting (Immediately following the Auditor Selection Committee Meeting)
DESCRIPTION:
URL:https://www.jwbpinellas.org/calendar/finance-committee-meeting-immediately-following-the-auditor-selection-committee-meeting/
LOCATION:JWB/Edmonds Neri Conference Room\, 14155 58th Street North\, Clearwater\, FL 33760\, 14155 58th Street North\, Clearwater\, FL\, 33760\, United States
CATEGORIES:All Meetings,Board Meetings,Public Notices
GEO:27.9004204;-82.7117388
X-APPLE-STRUCTURED-LOCATION;VALUE=URI;X-ADDRESS=JWB/Edmonds Neri Conference Room 14155 58th Street North Clearwater FL 33760 14155 58th Street North Clearwater FL 33760 United States;X-APPLE-RADIUS=500;X-TITLE=14155 58th Street North:geo:-82.7117388,27.9004204
END:VEVENT
END:VCALENDAR